BEGIN:VCALENDAR
VERSION:2.0
PRODID:-//lectures.nz//lectures.nz//EN
CALSCALE:GREGORIAN
METHOD:PUBLISH
X-WR-CALNAME:lectures.nz — New Zealand Public Lectures
X-WR-TIMEZONE:Pacific/Auckland
BEGIN:VEVENT
UID:7c6f453987ef3c34@lectures.nz
DTSTAMP:20260420T205648Z
DTSTART:20260625T060000Z
DTEND:20260625T070000Z
SUMMARY:Film screening of fugue notes
DESCRIPTION:Screening of Selina Ershadi's 'Fugue Notes' post-remastering.
LOCATION:Artspace Aotearoa\, 292 Karangahape Road\, Auckland
URL:https://artspace-aotearoa.nz/events/film-screening-of-fugue-notes
END:VEVENT
END:VCALENDAR
