BEGIN:VCALENDAR
VERSION:2.0
PRODID:-//lectures.nz//lectures.nz//EN
CALSCALE:GREGORIAN
METHOD:PUBLISH
X-WR-CALNAME:lectures.nz — New Zealand Public Lectures
X-WR-TIMEZONE:Pacific/Auckland
BEGIN:VEVENT
UID:f3fabdf5c39be407@lectures.nz
DTSTAMP:20260420T205648Z
DTSTART:20260501T060000Z
DTEND:20260501T070000Z
SUMMARY:Open late
DESCRIPTION:ArtSpace hosts late-night gallery events with Aotearoa Art Fair
 .
LOCATION:Artspace Aotearoa\, 292 Karangahape Road\, Auckland
URL:https://artspace-aotearoa.nz/events/open-late
END:VEVENT
END:VCALENDAR
