BEGIN:VCALENDAR
VERSION:2.0
PRODID:-//lectures.nz//lectures.nz//EN
CALSCALE:GREGORIAN
METHOD:PUBLISH
X-WR-CALNAME:lectures.nz — New Zealand Public Lectures
X-WR-TIMEZONE:Pacific/Auckland
BEGIN:VEVENT
UID:f97d2adb031d11ec@lectures.nz
DTSTAMP:20260420T205648Z
DTSTART:20260604T060000Z
DTEND:20260604T070000Z
SUMMARY:Deep dive: Lecture by Mahdis Azarmandi
DESCRIPTION:Mahdis Azarmandi lectures on Iran's war and peace issues throug
 h Peace and Conflict Studies.
LOCATION:Artspace Aotearoa\, 292 Karangahape Road\, Auckland
URL:https://artspace-aotearoa.nz/events/deep-dive-lecture-by-mahdis-azarmandi
END:VEVENT
END:VCALENDAR
