BEGIN:VCALENDAR
VERSION:2.0
PRODID:-//lectures.nz//lectures.nz//EN
CALSCALE:GREGORIAN
METHOD:PUBLISH
X-WR-CALNAME:lectures.nz — New Zealand Public Lectures
X-WR-TIMEZONE:Pacific/Auckland
BEGIN:VEVENT
UID:021f448b54049758@lectures.nz
DTSTAMP:20260420T205648Z
DTSTART:20260505T060000Z
DTEND:20260505T070000Z
SUMMARY:A Day in the Life of an Archaeologist
DESCRIPTION:Digging into the past\, excavating new information and challeng
 ing misconceptions is all in a day's work of a museum archaeologist.
LOCATION:Orientation Space\, Ground Floor\, Auckland War Memorial Museum
URL:https://www.aucklandmuseum.com/visit/whats-on/evenings/Twilight-Tuesday-with-Josh-Emmitt
END:VEVENT
END:VCALENDAR
