BEGIN:VCALENDAR
VERSION:2.0
PRODID:-//lectures.nz//lectures.nz//EN
CALSCALE:GREGORIAN
METHOD:PUBLISH
X-WR-CALNAME:lectures.nz — New Zealand Public Lectures
X-WR-TIMEZONE:Pacific/Auckland
BEGIN:VEVENT
UID:541dc5ec63ddc292@lectures.nz
DTSTAMP:20260424T205415Z
DTSTART:20260526T060000Z
DTEND:20260526T070000Z
SUMMARY:Close Encounters with the Shark Side
DESCRIPTION:Curator Clinton Duffy guides attendees through the world of sha
 rks at the Auckland Museum before the exhibition leaves for overseas.
LOCATION:Orientation Space\, Ground Floor\, Auckland War Memorial Museum
URL:https://www.aucklandmuseum.com/visit/whats-on/evenings/Twilight-Tuesday-with-Clinton_Duffy-SharkSide
END:VEVENT
END:VCALENDAR
