BEGIN:VCALENDAR
VERSION:2.0
PRODID:-//lectures.nz//lectures.nz//EN
CALSCALE:GREGORIAN
METHOD:PUBLISH
X-WR-CALNAME:lectures.nz — New Zealand Public Lectures
X-WR-TIMEZONE:Pacific/Auckland
BEGIN:VEVENT
UID:61b44da4b6ece3fd@lectures.nz
DTSTAMP:20260425T181533Z
DTSTART:20260502T220000Z
DTEND:20260502T230000Z
SUMMARY:Archaeology Week
DESCRIPTION:Join us this Archaeology Week for a family-friendly event offer
 ing a unique opportunity to become an archaeologist for the day! Explore t
 he fascinating world of uncovering history.
LOCATION:ORIENTATION SPACE\, TE AO MĀRAMA SOUTH ATRIUM\, Auckland War Memor
 ial Museum
URL:https://www.aucklandmuseum.com/visit/whats-on/Archaeology-Week-2026
END:VEVENT
END:VCALENDAR
