BEGIN:VCALENDAR
VERSION:2.0
PRODID:-//lectures.nz//lectures.nz//EN
CALSCALE:GREGORIAN
METHOD:PUBLISH
X-WR-CALNAME:lectures.nz — New Zealand Public Lectures
X-WR-TIMEZONE:Pacific/Auckland
BEGIN:VEVENT
UID:adb78f3c44febf5d@lectures.nz
DTSTAMP:20260420T205648Z
DTSTART:20260421T060000Z
DTEND:20260421T070000Z
SUMMARY:AMI: The 2026 Hochstetter Lecture
DESCRIPTION:Join Dr Pilar Villamor for the annual Hochstetter Lecture\, as 
 she reviews 25 years of trenching active faults in volcanic environments a
 nd how a scientist's perspective on tectonics close to volcanoes changed t
 hrough that time.
LOCATION:TE MATA TAIRONGO AUDITORIUM\, LEVEL 2\, Auckland War Memorial Muse
 um
URL:https://www.aucklandmuseum.com/visit/whats-on/members/The-2026-Hochstetter-Lecture
END:VEVENT
END:VCALENDAR
