BEGIN:VCALENDAR
VERSION:2.0
PRODID:-//lectures.nz//lectures.nz//EN
CALSCALE:GREGORIAN
METHOD:PUBLISH
X-WR-CALNAME:lectures.nz — New Zealand Public Lectures
X-WR-TIMEZONE:Pacific/Auckland
BEGIN:VEVENT
UID:e7ee177f3796e430@lectures.nz
DTSTAMP:20260420T205648Z
DTSTART:20260428T053000Z
DTEND:20260428T063000Z
SUMMARY:Te Reo o te Ao Tawhito: The Language of the Old
DESCRIPTION:An evening exploring the pauku's journey\, history\, and cultur
 al significance at Auckland War Memorial Museum.
LOCATION:TE MATA TAIRONGO MUSEUM AUDITORIUM\, LEVEL 2\, Auckland War Memori
 al Museum
URL:https://www.aucklandmuseum.com/visit/whats-on/maori/Te-Reo-o-Te-Ao-Tawhito
END:VEVENT
END:VCALENDAR
