BEGIN:VCALENDAR
VERSION:2.0
PRODID:-//lectures.nz//lectures.nz//EN
CALSCALE:GREGORIAN
METHOD:PUBLISH
X-WR-CALNAME:lectures.nz — New Zealand Public Lectures
X-WR-TIMEZONE:Pacific/Auckland
BEGIN:VEVENT
UID:0c5a2aaa12aaa6f5@lectures.nz
DTSTAMP:20260420T205648Z
DTSTART:20260430T053000Z
DTEND:20260430T063000Z
SUMMARY:The Enabling Technology of Photonics
DESCRIPTION:This talk will present an overview of the enabling technology o
 f photonics and the interplay between basic science and innovation.
LOCATION:Fale Pasifika\, University of Auckland\, 20 Wynyard Street\, Auckl
 and
URL:https://www.eventbrite.co.nz/e/the-enabling-technology-of-photonics-tickets-1984944877562
END:VEVENT
END:VCALENDAR
