BEGIN:VCALENDAR
VERSION:2.0
PRODID:-//lectures.nz//lectures.nz//EN
CALSCALE:GREGORIAN
METHOD:PUBLISH
X-WR-CALNAME:lectures.nz — New Zealand Public Lectures
X-WR-TIMEZONE:Pacific/Auckland
BEGIN:VEVENT
UID:95802a3f9566c770@lectures.nz
DTSTAMP:20260420T205648Z
DTSTART:20260513T060000Z
DTEND:20260513T070000Z
SUMMARY:2026 Alice Griffin Shakespeare Lecture
DESCRIPTION:Shakespeare as Reviser: The Merry Wives of Windsor
LOCATION:B401-401\, 20 Symonds Street\, Auckland
URL:https://www.eventbrite.co.nz/e/2026-alice-griffin-shakespeare-lecture-tickets-1985879327527
END:VEVENT
END:VCALENDAR
