BEGIN:VCALENDAR
VERSION:2.0
PRODID:-//lectures.nz//lectures.nz//EN
CALSCALE:GREGORIAN
METHOD:PUBLISH
X-WR-CALNAME:lectures.nz — New Zealand Public Lectures
X-WR-TIMEZONE:Pacific/Auckland
BEGIN:VEVENT
UID:f9522d3572d03fb2@lectures.nz
DTSTAMP:20260420T205648Z
DTSTART:20260421T233000Z
DTEND:20260422T003000Z
SUMMARY:Future Environments Thought Leadership × Whaikaha – Ministry of Dis
 abled People
DESCRIPTION:Future Environments Thought Leadership session\, in partnership
  with Whaikaha – Ministry of Disabled People\, focused on accessible and i
 nclusive design in
LOCATION:AUT City Campus\, WZ Building\, WZ100\, Auckland
URL:https://www.aut.ac.nz/events/future-environments-thought-leadership-whaikaha-ministry-of-disabled-people
END:VEVENT
END:VCALENDAR
