BEGIN:VCALENDAR
VERSION:2.0
PRODID:-//lectures.nz//lectures.nz//EN
CALSCALE:GREGORIAN
METHOD:PUBLISH
X-WR-CALNAME:lectures.nz — New Zealand Public Lectures
X-WR-TIMEZONE:Pacific/Auckland
BEGIN:VEVENT
UID:4dfb6447940ce651@lectures.nz
DTSTAMP:20260424T205415Z
DTSTART:20260514T040000Z
DTEND:20260514T050000Z
SUMMARY:LNG and New Zealand's Energy Balancing Act: Lessons from Asia-Pacif
 ic
DESCRIPTION:This session explores governance and operating experience acros
 s various regulatory environments\, examining New Zealand's energy trilemm
 a.
LOCATION:Sir Owen G Glenn Building\, Level 3\, Room 325\, 12 Grafton Road\,
  Auckland
URL:https://www.eventbrite.co.nz/e/lng-and-new-zealands-energy-balancing-act-lessons-from-asia-pacific-tickets-1987464831813
END:VEVENT
END:VCALENDAR
