BEGIN:VCALENDAR
VERSION:2.0
PRODID:-//lectures.nz//lectures.nz//EN
CALSCALE:GREGORIAN
METHOD:PUBLISH
X-WR-CALNAME:lectures.nz — New Zealand Public Lectures
X-WR-TIMEZONE:Pacific/Auckland
BEGIN:VEVENT
UID:6f04d15e54116813@lectures.nz
DTSTAMP:20260424T205415Z
DTSTART:20260607T210000Z
DTEND:20260607T220000Z
SUMMARY:3MT Faculty Heat (Business\, Economics  and Law)
DESCRIPTION:Doctoral candidates from Business\, Economics\, and Law compete
  in the Three Minute Thesis (3MT) Heat to showcase their research.
LOCATION:The University of Auckland Business School\, Decima Glenn\, Level 
 3\, 12 Grafton Road\, Auckland
URL:https://www.eventbrite.co.nz/e/3mt-faculty-heat-business-economics-and-law-tickets-1983836857444
END:VEVENT
END:VCALENDAR
