BEGIN:VCALENDAR
VERSION:2.0
PRODID:-//lectures.nz//lectures.nz//EN
CALSCALE:GREGORIAN
METHOD:PUBLISH
X-WR-CALNAME:lectures.nz — New Zealand Public Lectures
X-WR-TIMEZONE:Pacific/Auckland
BEGIN:VEVENT
UID:a70971ae735940bb@lectures.nz
DTSTAMP:20260424T205415Z
DTSTART:20260603T050000Z
DTEND:20260603T060000Z
SUMMARY:Indonesian Language Class
DESCRIPTION:Learn basic communication in Bahasa Indonesia\, spoken by over 
 250 million people across Southeast Asia.
LOCATION:Sir Owen G Building\, Auckland Business School\, Room 349\, Level 
 3\, Auckland
URL:https://www.eventbrite.co.nz/e/indonesian-language-class-tickets-1987028520795
END:VEVENT
END:VCALENDAR
