BEGIN:VCALENDAR
VERSION:2.0
PRODID:-//lectures.nz//lectures.nz//EN
CALSCALE:GREGORIAN
METHOD:PUBLISH
X-WR-CALNAME:lectures.nz — New Zealand Public Lectures
X-WR-TIMEZONE:Pacific/Auckland
BEGIN:VEVENT
UID:200da7812a57519d@lectures.nz
DTSTAMP:20260420T205648Z
DTSTART:20260510T233000Z
DTEND:20260511T003000Z
SUMMARY:Everything but the medicine - A doctor's tale
DESCRIPTION:Lucy O'Hagan reads from her memoir about medical experiences.
LOCATION:Wool Building Movie Theatre (WB1)
URL:https://www.massey.ac.nz/about/events/everything-but-the-medicine/
END:VEVENT
END:VCALENDAR
