BEGIN:VCALENDAR
VERSION:2.0
PRODID:-//lectures.nz//lectures.nz//EN
CALSCALE:GREGORIAN
METHOD:PUBLISH
X-WR-CALNAME:lectures.nz — New Zealand Public Lectures
X-WR-TIMEZONE:Pacific/Auckland
BEGIN:VEVENT
UID:f575220e54475c4f@lectures.nz
DTSTAMP:20260420T205648Z
DTSTART:20260521T000000Z
DTEND:20260521T010000Z
SUMMARY:Celebrate 50 years Bachelor of Social Work | 1976–1985
DESCRIPTION:Massey University commemorates 50 years of Bachelor of Social W
 ork.
LOCATION:Online event
URL:https://www.massey.ac.nz/about/events/celebrate-50-years-bachelor-of-social-work/
END:VEVENT
END:VCALENDAR
