BEGIN:VCALENDAR
VERSION:2.0
PRODID:-//lectures.nz//lectures.nz//EN
CALSCALE:GREGORIAN
METHOD:PUBLISH
X-WR-CALNAME:lectures.nz — New Zealand Public Lectures
X-WR-TIMEZONE:Pacific/Auckland
BEGIN:VEVENT
UID:87635656d44c1448@lectures.nz
DTSTAMP:20260420T205648Z
DTSTART:20260428T060000Z
DTEND:20260428T070000Z
SUMMARY:Prompt Poets Society: April's Tools - AI Engineering Auckland
DESCRIPTION:The cogs of AI progress keep a turning! Join us as we discuss t
 he latest and greatest with our April 2026 Prompt Poets Society.
LOCATION:2degrees Head Office\, 136 Fanshawe Street\, Auckland
URL:https://www.meetup.com/prompt-poets-society-ai-vibe-coding-auckland/events/314273839/
END:VEVENT
END:VCALENDAR
