BEGIN:VCALENDAR
VERSION:2.0
PRODID:-//lectures.nz//lectures.nz//EN
CALSCALE:GREGORIAN
METHOD:PUBLISH
X-WR-CALNAME:lectures.nz — New Zealand Public Lectures
X-WR-TIMEZONE:Pacific/Auckland
BEGIN:VEVENT
UID:0024c0284321b7e1@lectures.nz
DTSTAMP:20260420T205648Z
DTSTART:20260501T120000Z
DTEND:20260501T130000Z
SUMMARY:Unlocking the Collection: Behind the Scenes Tour
DESCRIPTION:Explore MOTAT's collection in an exclusive behind-the-scenes to
 ur.
LOCATION:MOTAT\, 805 Great North Road\, Western Springs\, Auckland
URL:https://motat.nz/events/behind-the-scenes-collection-tour/
END:VEVENT
END:VCALENDAR
