BEGIN:VCALENDAR
VERSION:2.0
PRODID:-//lectures.nz//lectures.nz//EN
CALSCALE:GREGORIAN
METHOD:PUBLISH
X-WR-CALNAME:lectures.nz — New Zealand Public Lectures
X-WR-TIMEZONE:Pacific/Auckland
BEGIN:VEVENT
UID:a616ebba62bce37b@lectures.nz
DTSTAMP:20260420T205648Z
DTSTART:20260423T060000Z
DTEND:20260423T070000Z
SUMMARY:Webinar - God Defend New Zealand: Defence Modernisation for the Inf
 ormation Age
DESCRIPTION:Webinar discussing NZ's $12B defence commitment and modernisati
 on needs\, featuring Major General John Howard and Sir Rod Drury.
LOCATION:Webinar
URL:https://www.nzinitiative.org.nz/events/webinar-god-defend-new-zealand-defence-modernisation-for-the-information-age/
END:VEVENT
END:VCALENDAR
