BEGIN:VCALENDAR
VERSION:2.0
PRODID:-//lectures.nz//lectures.nz//EN
CALSCALE:GREGORIAN
METHOD:PUBLISH
X-WR-CALNAME:lectures.nz — New Zealand Public Lectures
X-WR-TIMEZONE:Pacific/Auckland
BEGIN:VEVENT
UID:6c85bd14c67bf65d@lectures.nz
DTSTAMP:20260421T182443Z
DTSTART:20260519T060000Z
DTEND:20260519T070000Z
SUMMARY:Our Mysterious Brain: The Making and Breaking of Memories - AUCKLAN
 D
DESCRIPTION:Neuroscientist Emeritus Distinguished Professor Cliff Abraham F
 RSNZ will talk about what happens to the nerve cells in our brains to allo
 w us to remember – or forget.
LOCATION:Auckland War Memorial Museum Auditorium Auckland Museum\, Museum C
 ircuit\, Parnell\, Auckland 1010\, New Zealand
URL:https://www.royalsociety.org.nz/events/our-mysterious-brain-the-making-and-breaking-of-memories-auckland
END:VEVENT
END:VCALENDAR
