BEGIN:VCALENDAR
VERSION:2.0
PRODID:-//lectures.nz//lectures.nz//EN
CALSCALE:GREGORIAN
METHOD:PUBLISH
X-WR-CALNAME:lectures.nz — New Zealand Public Lectures
X-WR-TIMEZONE:Pacific/Auckland
BEGIN:VEVENT
UID:07ddca6f970286a6@lectures.nz
DTSTAMP:20260420T205648Z
DTSTART:20260603T120000Z
DTEND:20260603T130000Z
SUMMARY:Siva Mo Lou Soifua Manuia
DESCRIPTION:Explore Siva Samoa movements for cultural and physical well-bei
 ng.
LOCATION:Studio One Toi Tū\, 1 Summer Street\, Grey Lynn\, Auckland
URL:https://www.eventfinda.co.nz/2026/siva-mo-lou-soifua-manuia-with-charlene-tedrow/auckland/ponsonby
END:VEVENT
END:VCALENDAR
