BEGIN:VCALENDAR
VERSION:2.0
PRODID:-//lectures.nz//lectures.nz//EN
CALSCALE:GREGORIAN
METHOD:PUBLISH
X-WR-CALNAME:lectures.nz — New Zealand Public Lectures
X-WR-TIMEZONE:Pacific/Auckland
BEGIN:VEVENT
UID:3139979a01b04c3d@lectures.nz
DTSTAMP:20260420T205648Z
DTSTART:20260602T120000Z
DTEND:20260602T130000Z
SUMMARY:Tā: Siapo as a Living Practice
DESCRIPTION:Explore siapo-making as a living Samoan practice through talano
 a.
LOCATION:Studio One Toi Tū\, 1 Summer Street\, Grey Lynn\, Auckland
URL:https://www.eventfinda.co.nz/2026/ta-siapo-as-living-practice-with-florence-ulutunu/auckland/ponsonby
END:VEVENT
END:VCALENDAR
