BEGIN:VCALENDAR
VERSION:2.0
PRODID:-//lectures.nz//lectures.nz//EN
CALSCALE:GREGORIAN
METHOD:PUBLISH
X-WR-CALNAME:lectures.nz — New Zealand Public Lectures
X-WR-TIMEZONE:Pacific/Auckland
BEGIN:VEVENT
UID:575e90640f923cd8@lectures.nz
DTSTAMP:20260420T205648Z
DTSTART:20260508T120000Z
DTEND:20260508T130000Z
SUMMARY:Women & Non-binary Artist Hui: Cyanotype Workshop
DESCRIPTION:Cyanotype workshop led by Lulu for women and non-binary artists
 .
LOCATION:Studio One Toi Tū\, 1 Summer Street\, Grey Lynn\, Auckland
URL:https://www.eventfinda.co.nz/2026/women-non-binary-artist-hui-series-cyanotype-workshop/auckland/ponsonby
END:VEVENT
END:VCALENDAR
