BEGIN:VCALENDAR
VERSION:2.0
PRODID:-//lectures.nz//lectures.nz//EN
CALSCALE:GREGORIAN
METHOD:PUBLISH
X-WR-CALNAME:lectures.nz — New Zealand Public Lectures
X-WR-TIMEZONE:Pacific/Auckland
BEGIN:VEVENT
UID:ce1f249b3c34b63f@lectures.nz
DTSTAMP:20260420T205648Z
DTSTART:20260603T120000Z
DTEND:20260603T130000Z
SUMMARY:Mamalu – A Lineage Embodied
DESCRIPTION:Explore Samoan female tattooing as cultural knowledge.
LOCATION:Studio One Toi Tū\, 1 Summer Street\, Grey Lynn\, Auckland
URL:https://www.eventfinda.co.nz/2026/mamalu-lineage-embodied-with-rosanna-raymond/auckland/ponsonby
END:VEVENT
END:VCALENDAR
