BEGIN:VCALENDAR
VERSION:2.0
PRODID:-//lectures.nz//lectures.nz//EN
CALSCALE:GREGORIAN
METHOD:PUBLISH
X-WR-CALNAME:lectures.nz — New Zealand Public Lectures
X-WR-TIMEZONE:Pacific/Auckland
BEGIN:VEVENT
UID:11dc8475abd89d26@lectures.nz
DTSTAMP:20260420T205648Z
DTSTART:20260423T220000Z
DTEND:20260423T230000Z
SUMMARY:Tamariki Time: Slow Burn – Ahi Tāmau
DESCRIPTION:Tamariki Time workshop at Te Papa\, making nature picture frame
 s.
LOCATION:Te Papa Tongarewa\, 55 Cable Street\, Wellington
URL:https://www.tepapa.govt.nz/visit/events/tamariki-time-slow-burn-ahi-tamau
END:VEVENT
END:VCALENDAR
