BEGIN:VCALENDAR
VERSION:2.0
PRODID:-//lectures.nz//lectures.nz//EN
CALSCALE:GREGORIAN
METHOD:PUBLISH
X-WR-CALNAME:lectures.nz — New Zealand Public Lectures
X-WR-TIMEZONE:Pacific/Auckland
BEGIN:VEVENT
UID:19b443dab561d5b4@lectures.nz
DTSTAMP:20260421T182443Z
DTSTART:20260508T220000Z
DTEND:20260508T230000Z
SUMMARY:NZSL Week: Whānau Fun
DESCRIPTION:Celebrate New Zealand Sign Language Week with whānau-friendly a
 ctivities on Rongomaraeroa\, Te Papa’s marae.
LOCATION:Te Papa Tongarewa\, 55 Cable Street\, Wellington
URL:https://www.tepapa.govt.nz/visit/events/nzsl-week-whanau-fun
END:VEVENT
END:VCALENDAR
