BEGIN:VCALENDAR
VERSION:2.0
PRODID:-//lectures.nz//lectures.nz//EN
CALSCALE:GREGORIAN
METHOD:PUBLISH
X-WR-CALNAME:lectures.nz — New Zealand Public Lectures
X-WR-TIMEZONE:Pacific/Auckland
BEGIN:VEVENT
UID:481fca738bd99f86@lectures.nz
DTSTAMP:20260424T205415Z
DTSTART:20260503T010000Z
DTEND:20260503T020000Z
SUMMARY:He Kaupapa Waka Closing Kōrero
DESCRIPTION:Mark the closing of the He Kaupapa Waka exhibition with an afte
 rnoon of talks and a closing ceremony.
LOCATION:Te Papa Tongarewa\, 55 Cable Street\, Wellington
URL:https://www.tepapa.govt.nz/visit/events/he-kaupapa-waka-closing-korero
END:VEVENT
END:VCALENDAR
