BEGIN:VCALENDAR
VERSION:2.0
PRODID:-//lectures.nz//lectures.nz//EN
CALSCALE:GREGORIAN
METHOD:PUBLISH
X-WR-CALNAME:lectures.nz — New Zealand Public Lectures
X-WR-TIMEZONE:Pacific/Auckland
BEGIN:VEVENT
UID:c3fe748234d3e3ec@lectures.nz
DTSTAMP:20260420T205648Z
DTSTART:20260507T220000Z
DTEND:20260507T230000Z
SUMMARY:Tamariki Time: Sharing stories in NZSL
DESCRIPTION:Interactive session for children to learn NZSL.
LOCATION:Te Papa Tongarewa\, 55 Cable Street\, Wellington
URL:https://www.tepapa.govt.nz/visit/events/tamariki-time-sharing-stories-in-nzsl
END:VEVENT
END:VCALENDAR
