BEGIN:VCALENDAR
VERSION:2.0
PRODID:-//lectures.nz//lectures.nz//EN
CALSCALE:GREGORIAN
METHOD:PUBLISH
X-WR-CALNAME:lectures.nz — New Zealand Public Lectures
X-WR-TIMEZONE:Pacific/Auckland
BEGIN:VEVENT
UID:ca1f64f253399828@lectures.nz
DTSTAMP:20260420T205648Z
DTSTART:20260509T003000Z
DTEND:20260509T013000Z
SUMMARY:Screening: Sign of the Times – The Story of New Zealand’s Visual La
 nguage
DESCRIPTION:Screening of a documentary on NZ sign language.
LOCATION:Te Papa Tongarewa\, 55 Cable Street\, Wellington
URL:https://www.tepapa.govt.nz/visit/events/screening-sign-of-the-times-the-story-of-new-zealands-visual-language
END:VEVENT
END:VCALENDAR
