BEGIN:VCALENDAR
VERSION:2.0
PRODID:-//lectures.nz//lectures.nz//EN
CALSCALE:GREGORIAN
METHOD:PUBLISH
X-WR-CALNAME:lectures.nz — New Zealand Public Lectures
X-WR-TIMEZONE:Pacific/Auckland
BEGIN:VEVENT
UID:960eb2c54daf54c8@lectures.nz
DTSTAMP:20260421T182443Z
DTSTART:20260526T063000Z
DTEND:20260526T073000Z
SUMMARY:Vamlet: Dark Prince of Denmark
DESCRIPTION:Content Forecast: Blood\, violence\, depictions of mental distr
 ess and death. R13.About the showHamlet’s looking paler than usual. Their 
 father’s dead\, mother’s remarried\, and...
LOCATION:Wellington
URL:https://www.wgtn.ac.nz/sam/about/events/vamlet-dark-prince-of-denmark
END:VEVENT
END:VCALENDAR
