BEGIN:VCALENDAR
VERSION:2.0
PRODID:-//lectures.nz//lectures.nz//EN
CALSCALE:GREGORIAN
METHOD:PUBLISH
X-WR-CALNAME:lectures.nz — New Zealand Public Lectures
X-WR-TIMEZONE:Pacific/Auckland
BEGIN:VEVENT
UID:c18c3e744bc93c82@lectures.nz
DTSTAMP:20260424T205415Z
DTSTART:20260506T041000Z
DTEND:20260506T051000Z
SUMMARY:Garrison World: Redcoat Soldiers in New Zealand and across the Brit
 ish Empire
DESCRIPTION:Explore the history of redcoat soldiers in New Zealand and the 
 wider British Empire.
LOCATION:Wellington
URL:https://www.wgtn.ac.nz/stout-centre/about/events/garrison-world-redcoat-soldiers-in-new-zealand-and-across-the-british-empire
END:VEVENT
END:VCALENDAR
