BEGIN:VCALENDAR
VERSION:2.0
PRODID:-//lectures.nz//lectures.nz//EN
CALSCALE:GREGORIAN
METHOD:PUBLISH
X-WR-CALNAME:lectures.nz — New Zealand Public Lectures
X-WR-TIMEZONE:Pacific/Auckland
BEGIN:VEVENT
UID:600ca550291d52a4@lectures.nz
DTSTAMP:20260424T205415Z
DTSTART:20260512T053000Z
DTEND:20260512T063000Z
SUMMARY:Hamilton Public Lecture by Professor Nicola Daly
DESCRIPTION:Professor Nicola Daly speaks on the powerful reflections of pic
 turebooks regarding what we wish to pass on to our tamariki-mokopuna.
LOCATION:Gallagher Academy of Performing Arts\, Hamilton
URL:https://HPLnicoladaly.eventbrite.co.nz
END:VEVENT
BEGIN:VEVENT
UID:0b472d46885f049a@lectures.nz
DTSTAMP:20260424T205415Z
DTSTART:20260525T120000Z
DTEND:20260525T130000Z
SUMMARY:Hamilton Public Lecture by Professor Judy Bowen
DESCRIPTION:Professor Judy Bowen addresses the necessity of reliability\, u
 sability\, and safety in our embedded technology.
LOCATION:Gallagher Academy of Performing Arts\, Hamilton
URL:https://HPLjudybowen.eventbrite.co.nz
END:VEVENT
BEGIN:VEVENT
UID:7bf84ac607a16c8c@lectures.nz
DTSTAMP:20260424T205415Z
DTSTART:20260527T010000Z
DTEND:20260527T020000Z
SUMMARY:Regulatory Law through the Lens of Law-in-Context' by Dr Simon Robb
DESCRIPTION:Dr Simon Robb discusses regulatory law through the lens of law-
 in-context.
LOCATION:Margaret Wilson Suite\, N5.01\, UoW\, Hamilton Campus
URL:https://www.waikato.ac.nz/news-events/events/find-event/regulatory-law-through-the-lens-of-law-in-context-by-dr-simon-robb/
END:VEVENT
END:VCALENDAR
